BEGIN:VCALENDAR
VERSION:2.0
PRODID:Data::ICal 0.24
BEGIN:VEVENT
DESCRIPTION:Join our Statewide Day of Action on Saturday\, May 16 and be pa
 rt of the team fighting forward for a better future for all Californians.T
 here are several ways you can participate in the Statewide Day of Action: 
 https://www.mobilize.us/cadems/map/?lat=36.7378&lon=-119.7871&tag_ids=3096
 4&zoom=5&emci=b4be80fc-7a3e-f111-8ef2-000d3a14b640&emdi=62b1237b-483f-f111
 -8ef2-000d3a14b640&ceid=233669\n\n🚪 Volunteer to knock doors at a canva
 ss near you\n\n📞 Volunteer to make calls at a phone bank\n\n📣 Add yo
 ur local phone bank or canvass to the &quot\;California Fights Forward: St
 atewide Day of Action&quot\; Mobilize campaign. 
DTEND:20260516T160000
DTSTART:20260516T100000
LOCATION:various locations\, 
ORGANIZER:
SEQUENCE:1
SUMMARY:State Wide Get out to Vote
UID:1776982641-33874-4@bda35.contacttelecom.com
URL:https://santacruzcommunitycalendar.org/CAL/R34178
END:VEVENT
END:VCALENDAR
