BEGIN:VCALENDAR
VERSION:2.0
PRODID:Data::ICal 0.24
BEGIN:VEVENT
DESCRIPTION:Meet the SC Mayoral Candidates\n\nEl Rio Mobile Home Co-op invi
 tes you to meet the 5 candidates for Mayor of Santa Cruz.\n\nEl Rio Commun
 ity Room\n\nWednesday\, 4/29\n\n5 to 6.30 pm\n\nRefreshments will be serve
 d.\n\nBring a friend!\n\nAsk questions!\n\nShare your concerns and gratitu
 de for the beautiful city of Santa Cruz we all care for.\n\nNote: The Prim
 ary election is June 2. Ballots will be mailed to all registered SC voters
  on approx May4.\n\nCA has Same Day voter registration\, so you can regist
 er to vote as late as June 2.
DTEND:20260429T183000
DTSTART:20260429T170000
LOCATION:El Rio Mobile Home Park\, 2120 No.Pacific Ave\, Santa Cruz
ORGANIZER:
SEQUENCE:1
SUMMARY:Meet the SC Mayoral Candidates
UID:1776972549-33878-2@bda35.contacttelecom.com
URL:https://santacruzcommunitycalendar.org/CAL/R34177
END:VEVENT
END:VCALENDAR
