BEGIN:VCALENDAR
VERSION:2.0
PRODID:Data::ICal 0.24
BEGIN:VEVENT
DESCRIPTION:Film and Discussion\n\n6:00 pm: Socializing (Please bring healt
 hy snacks to share. No kitchen.)\n\n6:30 pm: &quot\;Global Uprising Agains
 t Technocracy's War&quot\; Film & Discussion\n\nAptos Grange. 2555 Mar Vis
 ta Drive\, Aptos\n\nSponsor: Brave and Free \n\nFree Event / Donations App
 reciated
DTEND:20260428T190000
DTSTART:20260428T180000
LOCATION:Aptos Grange  2555 Mar Vista Drive\, 
ORGANIZER:
SEQUENCE:1
SUMMARY:Global Uprising Against Technocracy's War
UID:1776958522-33888-9@bda35.contacttelecom.com
URL:https://santacruzcommunitycalendar.org/CAL/R34175
END:VEVENT
END:VCALENDAR
