BEGIN:VCALENDAR
VERSION:2.0
PRODID:Data::ICal 0.24
BEGIN:VEVENT
DESCRIPTION:Fundraiser with Dolores Huerta: Support Victory in CA's CD-22!\
 n\nReserve a spot now for Central Valley Matters' &quot\;Support Victory i
 n the Central Valley (CA's CD-22)&quot\; online fundraising event. We're s
 upporting grassroots community organizing in CA's Congressional House Dist
 rict 22. Your support contributes to the future we envision for California
  and the nation.\n\nCan't attend? Donate here to support our trusted messe
 ngers. https://secure.actblue.com/donate/cvm-2026?refcode=ma\n\nhttps://ww
 w.mobilize.us/swingleft/event/912802/?utm_source=substack&utm_medium=email
DTEND:20260428T183000
DTSTART:20260428T173000
LOCATION:online\, 
ORGANIZER:
SEQUENCE:1
SUMMARY:Fundraiser for CA 22 with Huerta
UID:1776866861-33887-1@bda35.contacttelecom.com
URL:https://santacruzcommunitycalendar.org/CAL/R34174
END:VEVENT
END:VCALENDAR
