BEGIN:VCALENDAR
VERSION:2.0
PRODID:Data::ICal 0.24
BEGIN:VEVENT
DESCRIPTION:City Nature Challenge 2026: Monterey and Santa Cruz Counties\n\
 nEvents: Friday April 24th\, 2026\, 10:00 AM to 12:00 PM: Big Basin BioBli
 tz\n\nWhere: Big Basin State Park Main Entrance\, 20580 Big Basin Way\, Bo
 ulder Creek\, CA 95006 (get directions)\n\nhttps://www.inaturalist.org/pro
 jects/big-basin-bioblitz-2026-community-nature-challenge\n\n--Saturday\, A
 pril 25th\, 2026\, 8:00 AM to 10:00 AM: Birdwatching walk at UCSC Arboretu
 m\, led by iNaturalist Ambassador\, Jesse Johnson\n\n--Saturday April 25th
  and Sunday\, April 26th\, 2026\, 11:00 AM to 1:00 PM: The Elkhorn Slough 
 National Estuarine Research Reserve (map) will have a BioBlitz with a loca
 l expert naturalist! We will be there on Saturday only with a table to hel
 p guide you all with maps and info!\n\n--Sunday April 26th\, 2026\, 1:15 P
 M to 2:15 PM: The Pacific Grove Museum of Natural History will be hosting 
 a Great Tidepool BioBlitz along Ocean View Blvd in PG. (MAP)
DTEND:20260424T120000
DTSTART:20260424T100000
LOCATION:see description\, 
ORGANIZER:
SEQUENCE:1
SUMMARY:BioBlitz
UID:1776826659-33888-6@bda35.contacttelecom.com
URL:https://santacruzcommunitycalendar.org/CAL/R34171
END:VEVENT
END:VCALENDAR
