BEGIN:VCALENDAR
VERSION:2.0
PRODID:Data::ICal 0.24
BEGIN:VEVENT
DESCRIPTION:Come join your local community in coastal restoration at Seabri
 ght Beach. Help make our coast a better place and learn about coastal ecol
 ogy. Together we are making an impact and have now restored over 1/2 mile 
 of coastal dune\, strand and bluff habitat. Click HERE for project backgro
 und. https://groundswellecology.org/seabright-beach/Go HERE to sign up.htt
 ps://groundswellecology.org/calendar/\n\nNote: Every Monday Thru May
DTEND:20260504T120000
DTSTART:20260504T090000
LOCATION:Seabright Beach 1300 East Cliff Drive\, 
ORGANIZER:
SEQUENCE:1
SUMMARY:Sea Bright Beach Restoration
UID:1776787079-33876-4@bda35.contacttelecom.com
URL:https://santacruzcommunitycalendar.org/CAL/R34162
END:VEVENT
END:VCALENDAR
