BEGIN:VCALENDAR
VERSION:2.0
PRODID:Data::ICal 0.24
BEGIN:VEVENT
DESCRIPTION:<b>Venezuela Then and Now</b>\n\nFilm: <b>The Bolivarian Revolu
 tion: Here Come the Oil Workers!</b>\n\nOil workers saved Venezuela's oil 
 industry from a CIA lockout after its failed coup in 2002. Discussion of t
 he country's social and economic conditions in recent years in relation to
  U.S. imperialism's warfare against Venezuela's Bolivarian Revolution.\n\n
 <b>HYBRID EVENT:</b> Register to join virtually by Zoom at bit.ly/RW26May1
 6 https://bit.ly/RW26May16
DTEND:20260516T213000
DTSTART:20260516T190000
LOCATION:SEIU Union Hall\, 517 Mission St\, Santa Cruz
ORGANIZER:
SEQUENCE:1
SUMMARY:Reel Work: Here Come the Oil Workers!
UID:1776700746-33881-2@bda35.contacttelecom.com
URL:reelwork.org http://reelwork.org
END:VEVENT
END:VCALENDAR
