BEGIN:VCALENDAR
VERSION:2.0
PRODID:Data::ICal 0.24
BEGIN:VEVENT
DESCRIPTION:<b>The Power of Unions</b>\n\nFilm: <b>Who Moves America?</b>\n
 \n(Yael Bridge\, 2026\, 87 min\, USA)\n\nUPS Teamsters build solidarity am
 ong 340\,000 workers as a strike deadline approaches.\n\nPanel discussion 
 with local labor union organizers.
DTEND:20260509T213000
DTSTART:20260509T190000
LOCATION:SEIU Union Hall\, 517 Mission St\, Santa Cruz
ORGANIZER:
SEQUENCE:1
SUMMARY:Reel Work: Who Moves America?
UID:1776699590-33878-0@bda35.contacttelecom.com
URL:reelwork.org http://reelwork.org
END:VEVENT
END:VCALENDAR
