BEGIN:VCALENDAR
VERSION:2.0
PRODID:Data::ICal 0.24
BEGIN:VEVENT
DESCRIPTION:<b>Socialism is as American as Apple Pie</b>\n\nFilm: <b>The Bi
 g Scary &quot\;S&quot\; Word</b>\n\n(Yael Bridge\, 2020\, 82 min\, USA)\n\
 nWith inequality growing\, a climate catastrophe looming\, and right-wing 
 extremism ascending around the world\, many in the U.S. are wondering whet
 her capitalism is to blame. \n\nSpeaker: Paul Ortiz\, labor historian\, co
 -founder of Reel Work.\n\n<b>HYBRID EVENT: </b>Register to join virtually 
 by Zoom at bit.ly/RW26May6 https://bit.ly/RW26May6
DTEND:20260506T213000
DTSTART:20260506T190000
LOCATION:SEIU Union Hall\, 517 Mission St\, Santa Cruz
ORGANIZER:
SEQUENCE:1
SUMMARY:Reel Work: American Socialism
UID:1776699281-33884-1@bda35.contacttelecom.com
URL:reelwork.org http://reelwork.org
END:VEVENT
END:VCALENDAR
