BEGIN:VCALENDAR
VERSION:2.0
PRODID:Data::ICal 0.24
BEGIN:VEVENT
DESCRIPTION:<b>Migration Stories</b>\n\nFilms:\n\n<b>Teb Chaw (Land)</b>\n\
 n(Joua Lee Grande\, 2025\, 11 min\, USA)\n\nHmong refugee farmers from Lao
 s who settled in Minnesota.\n\n<b>The Market</b>\n\n(Oanh-Nhi Nguyen\, 202
 5\, 12 min\, USA)\n\nThe journey to the Southeast Asian Market in south Ph
 iladelphia's FDR Park\, founded by refugees who carved out their own space
  of nourishment and belonging.\n\n<b>Built On Hope</b>\n\n(Kathryn Elise K
 ovalenko\, 2025\, 36 min\, India)\n\nThree migrant mothers live and work a
 t a brick factory in Haryana\, India\, with their families\, and work to b
 uild a better future for their children.\n\nSpeaker: Quyên Nguyen-Le\, pr
 oducer for <i>Teb Chaw</i> and <i>The Market</i>.\n\n<b>HYBRID EVENT:</b> 
 Register to join virtually on Zoom at bit.ly/RW26May3 https://bit.ly/RW26M
 ay3
DTEND:20260503T193000
DTSTART:20260503T170000
LOCATION:SEIU Union Hall\, 517 Mission St\, Santa Cruz
ORGANIZER:
SEQUENCE:1
SUMMARY:Reel Work: Migration Stories
UID:1776698891-33886-1@bda35.contacttelecom.com
URL:reelwork.org http://reelwork.org
END:VEVENT
END:VCALENDAR
