BEGIN:VCALENDAR
VERSION:2.0
PRODID:Data::ICal 0.24
BEGIN:VEVENT
DESCRIPTION:<b>Hard Times History in the US in 1932</b>\n\nFilm: <b>A Hobo 
 in the Great Depression</b>\n\nSpeaker: Filmmaker Pauline Greenlick will j
 oin virtually.\n\n<b>HYBRID EVENT:</b> Register to join by Zoom at bit.ly/
 RW26Apr26 https://bit.ly/RW26Apr26
DTEND:20260426T193000
DTSTART:20260426T170000
LOCATION:SEIU Union Hall\, 517 Mission St\, Santa Cruz
ORGANIZER:
SEQUENCE:1
SUMMARY:Reel Work: A Hobo in the Great Depression
UID:1776696121-33888-2@bda35.contacttelecom.com
URL:reelwork.org http://reelwork.org
END:VEVENT
END:VCALENDAR
