BEGIN:VCALENDAR
VERSION:2.0
PRODID:Data::ICal 0.24
BEGIN:VEVENT
DESCRIPTION:What are the latest power innovations that can help us meet our
  climate goals? Please join us on Wednesday evening\, April 29th at 7:00 p
 m for an in-depth look at new developments in balcony solar\, grid basics\
 , battery storage\, and virtual power plants.\n\nregister: https://us02web
 .zoom.us/webinar/register/WN_Kkhc6MQIQ9uvbo7aOqTrYA#/registration
DTEND:20260429T170000
DTSTART:20260429T160000
LOCATION:online\, 
ORGANIZER:
SEQUENCE:1
SUMMARY:Innovative Power Solutions
UID:1776615029-33886-0@bda35.contacttelecom.com
URL:https://santacruzcommunitycalendar.org/CAL/R34145
END:VEVENT
END:VCALENDAR
