BEGIN:VCALENDAR
VERSION:2.0
PRODID:Data::ICal 0.24
BEGIN:VEVENT
DESCRIPTION:The Food Not Bombs 46th anniversary Concert for Peace.\n\nWith 
 • The 77 Wonders\n\nDuke Wellington and his Cast Iron Band\n\nThe Peace 
 and Love Revolution\,\n\nBuckeye Band and Mutt and much more!\n\nFree food
 \, face painting\, arts\, crafts and information booths.\n\nA free festiva
 l • Bring a beach chair • All are welcome.\n\nJoin us in calling for a
 n end to the US / Israeli war against Iran.\n\nFOOD NOT BOMBS\n\nhttps://f
 oodnotbombs.net/new_site/
DTEND:20260517T160000
DTSTART:20260517T120000
LOCATION:Duck Pond Stage San Lorenzo Park\, Santa Cruz\, 
ORGANIZER:
SEQUENCE:1
SUMMARY:Soupstock 2026
UID:1776482833-13448-1@bda35.contacttelecom.com
URL:https://santacruzcommunitycalendar.org/CAL/R34144
END:VEVENT
END:VCALENDAR
