BEGIN:VCALENDAR
VERSION:2.0
PRODID:Data::ICal 0.24
BEGIN:VEVENT
DESCRIPTION:Great news! The City is celebrating the completion of repairs t
 o the south end of the Santa Cruz Wharf\, and full public access is offici
 ally restored.\n\nWith repairs now complete\, visitors can once again stro
 ll to the very end of the Wharf\, take in sweeping views of Monterey Bay\,
  feel the ocean breeze\, and spot sea lions below\, one of Santa Cruz's mo
 st iconic experiences.\n\nMark your calendar and celebrate the reopening w
 ith City leaders\, staff\, and neighbors. Enjoy brief remarks\, family-fri
 endly activities\, and the chance to experience the refreshed south end of
  the Wharf.
DTEND:20260429T170000
DTSTART:20260429T150000
LOCATION:Santa cruz Wharf - S end\, 
ORGANIZER:
SEQUENCE:1
SUMMARY:S end of Wharf opens
UID:1776459542-13450-1@bda35.contacttelecom.com
URL:https://santacruzcommunitycalendar.org/CAL/R34141
END:VEVENT
END:VCALENDAR
