BEGIN:VCALENDAR
VERSION:2.0
PRODID:Data::ICal 0.24
BEGIN:VEVENT
DESCRIPTION:Indivisible will be holding its general meeting on Wednesday\, 
 May 6th\,  from 6:30pm-8:30pm at London Nelson Center.\n\nWe will be recru
 iting for important upcoming elections work and presenting opportunities f
 or volunteers to serve on our new working groups. Plus\, we will be previe
 wing summer activities including a fun Indivisible member event. Join us i
 n person if you are able! Look for the live stream link soon.\n\nsign up h
 ttps://www.mobilize.us/indivisiblesantacruzcounty/event/938751/?mc_cid=593
 d408134&mc_eid=a72da87314
DTEND:20260506T203000
DTSTART:20260506T183000
LOCATION:London Nelson Center\, Center St\, 
ORGANIZER:
SEQUENCE:1
SUMMARY:ISCC General Meeting
UID:1776451685-13451-3@bda35.contacttelecom.com
URL:https://santacruzcommunitycalendar.org/CAL/R34140
END:VEVENT
END:VCALENDAR
