BEGIN:VCALENDAR
VERSION:2.0
PRODID:Data::ICal 0.24
BEGIN:VEVENT
DESCRIPTION:Vote Forward Letter Writing Party\n\nHosted by Rene B. and 2 ot
 hers\n\n1215 Odyssey Ct\, Santa Cruz\, CA\n\nJoin us in a beautiful outdoo
 r setting to write letters to help young voters in Pennsylvania get inform
 ed and prepared to vote ahead of the 2026 midterms. Sign up: https://www.m
 obilize.us/swingleft/event/921740/?followup_modal_context=email_shift_foll
 owup_other_events
DTEND:20260415T160000
DTSTART:20260415T140000
LOCATION:1215 Odyssey Ct\, Santa Cruz\, CA\, 
ORGANIZER:
SEQUENCE:1
SUMMARY:Vore Forward Letter Writing Party
UID:1774047489-1402-2@bda35.contacttelecom.com
URL:https://santacruzcommunitycalendar.org/CAL/R34034
END:VEVENT
END:VCALENDAR
