BEGIN:VCALENDAR
VERSION:2.0
PRODID:Data::ICal 0.24
BEGIN:VEVENT
DESCRIPTION:Shared Adventures will be hosting its annual Spring Fling Dance
  on March 7th.\n\n> We have a sign up for volunteers and so far not enough
  to make the work load light.\n\n> If you are available to help\, please s
 ign up here -\n\n> https://www.eventbrite.com/e/volunteers-for-spring-flin
 g-dance-march-7-tickets-1981252717211?aff=oddtdtcreator\n\n>\n\n> We have 
 shifts\, we have lots of spots\, we have fun and we appreciate and need yo
 u!\n\nHelp set up\, decorate\, serve snacks\, do crafts\, take photos\, fa
 ce - paint\, clean up\, etc! Many hands make light work (VARIOUS SHIFTS)
DTEND:20260307T203000
DTSTART:20260307T153000
LOCATION:Vintage Faith Church\, Mission St\, Santa Cruz\, 
ORGANIZER:
SEQUENCE:1
SUMMARY:Spring Fling Dance - Volunteers Needed
UID:1772474760-64322-2@bda35.contacttelecom.com
URL:https://santacruzcommunitycalendar.org/CAL/R33948
END:VEVENT
END:VCALENDAR
